BEGIN:VCALENDAR
VERSION:2.0
PRODID:-//ArtVantage Kulturverein e.V. - ECPv6.15.20//NONSGML v1.0//EN
CALSCALE:GREGORIAN
METHOD:PUBLISH
X-WR-CALNAME:ArtVantage Kulturverein e.V.
X-ORIGINAL-URL:https://artvantage-kulturverein.de
X-WR-CALDESC:Veranstaltungen für ArtVantage Kulturverein e.V.
REFRESH-INTERVAL;VALUE=DURATION:PT1H
X-Robots-Tag:noindex
X-PUBLISHED-TTL:PT1H
BEGIN:VTIMEZONE
TZID:Europe/Berlin
BEGIN:DAYLIGHT
TZOFFSETFROM:+0100
TZOFFSETTO:+0200
TZNAME:CEST
DTSTART:20240331T010000
END:DAYLIGHT
BEGIN:STANDARD
TZOFFSETFROM:+0200
TZOFFSETTO:+0100
TZNAME:CET
DTSTART:20241027T010000
END:STANDARD
BEGIN:DAYLIGHT
TZOFFSETFROM:+0100
TZOFFSETTO:+0200
TZNAME:CEST
DTSTART:20250330T010000
END:DAYLIGHT
BEGIN:STANDARD
TZOFFSETFROM:+0200
TZOFFSETTO:+0100
TZNAME:CET
DTSTART:20251026T010000
END:STANDARD
BEGIN:DAYLIGHT
TZOFFSETFROM:+0100
TZOFFSETTO:+0200
TZNAME:CEST
DTSTART:20260329T010000
END:DAYLIGHT
BEGIN:STANDARD
TZOFFSETFROM:+0200
TZOFFSETTO:+0100
TZNAME:CET
DTSTART:20261025T010000
END:STANDARD
END:VTIMEZONE
BEGIN:VEVENT
DTSTART;TZID=Europe/Berlin:20250529T120000
DTEND;TZID=Europe/Berlin:20250529T160000
DTSTAMP:20260424T105119
CREATED:20250531T143930Z
LAST-MODIFIED:20250609T211454Z
UID:1258-1748520000-1748534400@artvantage-kulturverein.de
SUMMARY:Kulturausflug mit Sehenswürdigkeiten und Picknick
DESCRIPTION:Am Vatertag laden wir euch herzlich zu einem kulturellen Tagesausflug entlang des Rheins ein! Gemeinsam entdecken wir beeindruckende Sehenswürdigkeiten – darunter Burgen\, Schlösser und malerische Landschaften zwischen Wiesbaden und der Loreley. \nBegleitet wird der Ausflug von einem gemütlichen Picknick mit Snacks und Getränken an einem idyllischen Rastplatz direkt am Flussufer. \nRoute: Wiesbaden – Loreley (mit Stopps an ausgewählten Sehenswürdigkeiten) \nDie Teilnahme ist ausschließlich mit Gästeliste möglich und erfordert einen Mindestbeitrag von 45€ pro Person. Dieser Beitrag dient der Finanzierung der Veranstaltung sowie der Unterstützung zukünftiger Projekte des ArtVantage Kulturvereins. \nDie Zahlung kann wie folgt erfolgen: \n\nÜberweisung auf das Bankkonto des ArtVantage Kulturvereins (Details folgen).\nPer PayPal an patron@artvantage-kulturverein.de.\nBarzahlung vor Ort.\n\nEin Tag voller Kultur\, Natur und Gemeinschaft – für Mitglieder und Interessierte gleichermaßen geeignet. Nur wenige Plätze verfügbar. \nRSVP: events@artvantage-kulturverein.de \nDresscode: Country-Chic \nWichtige Hinweise: \nMindestalter: Der Zugang zur Veranstaltung ist ausschließlich Personen ab 18 Jahren gestattet. \nDatenschutz: Ihre persönlichen Daten (z. B. Name und Kontaktdaten) werden ausschließlich zur Organisation der Veranstaltung verwendet und nicht an Dritte weitergegeben. Weitere Informationen entnehmen Sie bitte unserer Datenschutzerklärung. \nMindestbeitrag: Der Mindestbeitrag ist nicht rückerstattbar. Mit der Überweisung oder Zahlung bestätigen Sie Ihre Teilnahme und unterstützen gleichzeitig die Finanzierung der Veranstaltung sowie die Projekte des ArtVantage Kulturvereins. \nNichtteilnahme: Sollten Sie trotz Anmeldung nicht teilnehmen können\, wird der Mindestbeitrag als Unterstützung für den Verein verwendet. \n*Bitte beachten: 3. OG ohne Aufzug
URL:https://artvantage-kulturverein.de/event/kulturausflug-mit-sehenswuerdigkeiten-und-picknick/
LOCATION:Private Studio\, Kaiser-Friedrich-Ring 37\, Wiesbaden\, 65185
CATEGORIES:Kulturausflug
ATTACH;FMTTYPE=image/jpeg:https://artvantage-kulturverein.de/wp-content/uploads/2025/05/1000060103.jpg
ORGANIZER;CN="ArtVantage Kulturverein e.V.":MAILTO:info@artvantage-kulturverein.de
END:VEVENT
END:VCALENDAR